BEGIN:VCALENDAR
VERSION:2.0
PRODID:-//Camp Pearl - ECPv6.15.20//NONSGML v1.0//EN
CALSCALE:GREGORIAN
METHOD:PUBLISH
X-ORIGINAL-URL:https://camppearl.com
X-WR-CALDESC:Events for Camp Pearl
REFRESH-INTERVAL;VALUE=DURATION:PT1H
X-Robots-Tag:noindex
X-PUBLISHED-TTL:PT1H
BEGIN:VTIMEZONE
TZID:America/Chicago
BEGIN:DAYLIGHT
TZOFFSETFROM:-0600
TZOFFSETTO:-0500
TZNAME:CDT
DTSTART:20170312T080000
END:DAYLIGHT
BEGIN:STANDARD
TZOFFSETFROM:-0500
TZOFFSETTO:-0600
TZNAME:CST
DTSTART:20171105T070000
END:STANDARD
BEGIN:DAYLIGHT
TZOFFSETFROM:-0600
TZOFFSETTO:-0500
TZNAME:CDT
DTSTART:20180311T080000
END:DAYLIGHT
BEGIN:STANDARD
TZOFFSETFROM:-0500
TZOFFSETTO:-0600
TZNAME:CST
DTSTART:20181104T070000
END:STANDARD
BEGIN:DAYLIGHT
TZOFFSETFROM:-0600
TZOFFSETTO:-0500
TZNAME:CDT
DTSTART:20190310T080000
END:DAYLIGHT
BEGIN:STANDARD
TZOFFSETFROM:-0500
TZOFFSETTO:-0600
TZNAME:CST
DTSTART:20191103T070000
END:STANDARD
BEGIN:DAYLIGHT
TZOFFSETFROM:-0600
TZOFFSETTO:-0500
TZNAME:CDT
DTSTART:20200308T080000
END:DAYLIGHT
BEGIN:STANDARD
TZOFFSETFROM:-0500
TZOFFSETTO:-0600
TZNAME:CST
DTSTART:20201101T070000
END:STANDARD
BEGIN:DAYLIGHT
TZOFFSETFROM:-0600
TZOFFSETTO:-0500
TZNAME:CDT
DTSTART:20210314T080000
END:DAYLIGHT
BEGIN:STANDARD
TZOFFSETFROM:-0500
TZOFFSETTO:-0600
TZNAME:CST
DTSTART:20211107T070000
END:STANDARD
BEGIN:DAYLIGHT
TZOFFSETFROM:-0600
TZOFFSETTO:-0500
TZNAME:CDT
DTSTART:20220313T080000
END:DAYLIGHT
BEGIN:STANDARD
TZOFFSETFROM:-0500
TZOFFSETTO:-0600
TZNAME:CST
DTSTART:20221106T070000
END:STANDARD
BEGIN:DAYLIGHT
TZOFFSETFROM:-0600
TZOFFSETTO:-0500
TZNAME:CDT
DTSTART:20230312T080000
END:DAYLIGHT
BEGIN:STANDARD
TZOFFSETFROM:-0500
TZOFFSETTO:-0600
TZNAME:CST
DTSTART:20231105T070000
END:STANDARD
BEGIN:DAYLIGHT
TZOFFSETFROM:-0600
TZOFFSETTO:-0500
TZNAME:CDT
DTSTART:20240310T080000
END:DAYLIGHT
BEGIN:STANDARD
TZOFFSETFROM:-0500
TZOFFSETTO:-0600
TZNAME:CST
DTSTART:20241103T070000
END:STANDARD
BEGIN:DAYLIGHT
TZOFFSETFROM:-0600
TZOFFSETTO:-0500
TZNAME:CDT
DTSTART:20250309T080000
END:DAYLIGHT
BEGIN:STANDARD
TZOFFSETFROM:-0500
TZOFFSETTO:-0600
TZNAME:CST
DTSTART:20251102T070000
END:STANDARD
BEGIN:DAYLIGHT
TZOFFSETFROM:-0600
TZOFFSETTO:-0500
TZNAME:CDT
DTSTART:20260308T080000
END:DAYLIGHT
BEGIN:STANDARD
TZOFFSETFROM:-0500
TZOFFSETTO:-0600
TZNAME:CST
DTSTART:20261101T070000
END:STANDARD
END:VTIMEZONE
BEGIN:VEVENT
DTSTART;TZID=America/Chicago:20250408T180000
DTEND;TZID=America/Chicago:20250408T193000
DTSTAMP:20260420T202830
CREATED:20241207T175916Z
LAST-MODIFIED:20250112T164719Z
UID:10000306-1744135200-1744140600@camppearl.com
SUMMARY:Bible Class - Making Disciple Makers
DESCRIPTION:Meets Tuesday Nights at 6pm in Classroom A (between the Chapel and the Diner). \nFree to attend. Please register so we know how many students to accommodate. \nCan’t attend in person? Just select the “Zoom” option on the registration form to attend online. \nClass: Making Disciple Makers \nThis course will help you better engage in building up the body of Christ through replication – obeying Jesus’ Great Commission to go and make disciples. 
URL:https://camppearl.com/event/bible-class-making-disciple-makers/2025-04-08/
LOCATION:Classroom A\, 1132 Camp Pearl Rd\, Reeves\, LA\, 70658\, United States
CATEGORIES:Classes
ORGANIZER;CN="Robin LeBlanc":MAILTO:robin@camppearl.com
END:VEVENT
BEGIN:VEVENT
DTSTART;TZID=America/Chicago:20250401T180000
DTEND;TZID=America/Chicago:20250401T193000
DTSTAMP:20260420T202830
CREATED:20241207T175916Z
LAST-MODIFIED:20250112T164719Z
UID:10000305-1743530400-1743535800@camppearl.com
SUMMARY:Bible Class - Making Disciple Makers
DESCRIPTION:Meets Tuesday Nights at 6pm in Classroom A (between the Chapel and the Diner). \nFree to attend. Please register so we know how many students to accommodate. \nCan’t attend in person? Just select the “Zoom” option on the registration form to attend online. \nClass: Making Disciple Makers \nThis course will help you better engage in building up the body of Christ through replication – obeying Jesus’ Great Commission to go and make disciples. 
URL:https://camppearl.com/event/bible-class-making-disciple-makers/2025-04-01/
LOCATION:Classroom A\, 1132 Camp Pearl Rd\, Reeves\, LA\, 70658\, United States
CATEGORIES:Classes
ORGANIZER;CN="Robin LeBlanc":MAILTO:robin@camppearl.com
END:VEVENT
BEGIN:VEVENT
DTSTART;TZID=America/Chicago:20250325T180000
DTEND;TZID=America/Chicago:20250325T193000
DTSTAMP:20260420T202830
CREATED:20241207T175916Z
LAST-MODIFIED:20250112T164719Z
UID:10000304-1742925600-1742931000@camppearl.com
SUMMARY:Bible Class - Making Disciple Makers
DESCRIPTION:Meets Tuesday Nights at 6pm in Classroom A (between the Chapel and the Diner). \nFree to attend. Please register so we know how many students to accommodate. \nCan’t attend in person? Just select the “Zoom” option on the registration form to attend online. \nClass: Making Disciple Makers \nThis course will help you better engage in building up the body of Christ through replication – obeying Jesus’ Great Commission to go and make disciples. 
URL:https://camppearl.com/event/bible-class-making-disciple-makers/2025-03-25/
LOCATION:Classroom A\, 1132 Camp Pearl Rd\, Reeves\, LA\, 70658\, United States
CATEGORIES:Classes
ORGANIZER;CN="Robin LeBlanc":MAILTO:robin@camppearl.com
END:VEVENT
BEGIN:VEVENT
DTSTART;TZID=America/Chicago:20250318T180000
DTEND;TZID=America/Chicago:20250318T193000
DTSTAMP:20260420T202830
CREATED:20241207T175916Z
LAST-MODIFIED:20250112T164719Z
UID:10000303-1742320800-1742326200@camppearl.com
SUMMARY:Bible Class - Making Disciple Makers
DESCRIPTION:Meets Tuesday Nights at 6pm in Classroom A (between the Chapel and the Diner). \nFree to attend. Please register so we know how many students to accommodate. \nCan’t attend in person? Just select the “Zoom” option on the registration form to attend online. \nClass: Making Disciple Makers \nThis course will help you better engage in building up the body of Christ through replication – obeying Jesus’ Great Commission to go and make disciples. 
URL:https://camppearl.com/event/bible-class-making-disciple-makers/2025-03-18/
LOCATION:Classroom A\, 1132 Camp Pearl Rd\, Reeves\, LA\, 70658\, United States
CATEGORIES:Classes
ORGANIZER;CN="Robin LeBlanc":MAILTO:robin@camppearl.com
END:VEVENT
BEGIN:VEVENT
DTSTART;TZID=America/Chicago:20250311T180000
DTEND;TZID=America/Chicago:20250311T193000
DTSTAMP:20260420T202830
CREATED:20241207T175916Z
LAST-MODIFIED:20250112T164719Z
UID:10000302-1741716000-1741721400@camppearl.com
SUMMARY:Bible Class - Making Disciple Makers
DESCRIPTION:Meets Tuesday Nights at 6pm in Classroom A (between the Chapel and the Diner). \nFree to attend. Please register so we know how many students to accommodate. \nCan’t attend in person? Just select the “Zoom” option on the registration form to attend online. \nClass: Making Disciple Makers \nThis course will help you better engage in building up the body of Christ through replication – obeying Jesus’ Great Commission to go and make disciples. 
URL:https://camppearl.com/event/bible-class-making-disciple-makers/2025-03-11/
LOCATION:Classroom A\, 1132 Camp Pearl Rd\, Reeves\, LA\, 70658\, United States
CATEGORIES:Classes
ORGANIZER;CN="Robin LeBlanc":MAILTO:robin@camppearl.com
END:VEVENT
BEGIN:VEVENT
DTSTART;TZID=America/Chicago:20250304T180000
DTEND;TZID=America/Chicago:20250304T193000
DTSTAMP:20260420T202830
CREATED:20241207T175916Z
LAST-MODIFIED:20250112T164719Z
UID:10000301-1741111200-1741116600@camppearl.com
SUMMARY:Bible Class - Making Disciple Makers
DESCRIPTION:Meets Tuesday Nights at 6pm in Classroom A (between the Chapel and the Diner). \nFree to attend. Please register so we know how many students to accommodate. \nCan’t attend in person? Just select the “Zoom” option on the registration form to attend online. \nClass: Making Disciple Makers \nThis course will help you better engage in building up the body of Christ through replication – obeying Jesus’ Great Commission to go and make disciples. 
URL:https://camppearl.com/event/bible-class-making-disciple-makers/2025-03-04/
LOCATION:Classroom A\, 1132 Camp Pearl Rd\, Reeves\, LA\, 70658\, United States
CATEGORIES:Classes
ORGANIZER;CN="Robin LeBlanc":MAILTO:robin@camppearl.com
END:VEVENT
BEGIN:VEVENT
DTSTART;TZID=America/Chicago:20250225T180000
DTEND;TZID=America/Chicago:20250225T193000
DTSTAMP:20260420T202830
CREATED:20241207T175916Z
LAST-MODIFIED:20250112T164719Z
UID:10000300-1740506400-1740511800@camppearl.com
SUMMARY:Bible Class - Making Disciple Makers
DESCRIPTION:Meets Tuesday Nights at 6pm in Classroom A (between the Chapel and the Diner). \nFree to attend. Please register so we know how many students to accommodate. \nCan’t attend in person? Just select the “Zoom” option on the registration form to attend online. \nClass: Making Disciple Makers \nThis course will help you better engage in building up the body of Christ through replication – obeying Jesus’ Great Commission to go and make disciples. 
URL:https://camppearl.com/event/bible-class-making-disciple-makers/2025-02-25/
LOCATION:Classroom A\, 1132 Camp Pearl Rd\, Reeves\, LA\, 70658\, United States
CATEGORIES:Classes
ORGANIZER;CN="Robin LeBlanc":MAILTO:robin@camppearl.com
END:VEVENT
BEGIN:VEVENT
DTSTART;TZID=America/Chicago:20250218T180000
DTEND;TZID=America/Chicago:20250218T193000
DTSTAMP:20260420T202830
CREATED:20241207T175916Z
LAST-MODIFIED:20250112T164719Z
UID:10000299-1739901600-1739907000@camppearl.com
SUMMARY:Bible Class - Making Disciple Makers
DESCRIPTION:Meets Tuesday Nights at 6pm in Classroom A (between the Chapel and the Diner). \nFree to attend. Please register so we know how many students to accommodate. \nCan’t attend in person? Just select the “Zoom” option on the registration form to attend online. \nClass: Making Disciple Makers \nThis course will help you better engage in building up the body of Christ through replication – obeying Jesus’ Great Commission to go and make disciples. 
URL:https://camppearl.com/event/bible-class-making-disciple-makers/2025-02-18/
LOCATION:Classroom A\, 1132 Camp Pearl Rd\, Reeves\, LA\, 70658\, United States
CATEGORIES:Classes
ORGANIZER;CN="Robin LeBlanc":MAILTO:robin@camppearl.com
END:VEVENT
BEGIN:VEVENT
DTSTART;TZID=America/Chicago:20250211T180000
DTEND;TZID=America/Chicago:20250211T193000
DTSTAMP:20260420T202830
CREATED:20241207T175916Z
LAST-MODIFIED:20250112T164719Z
UID:10000298-1739296800-1739302200@camppearl.com
SUMMARY:Bible Class - Making Disciple Makers
DESCRIPTION:Meets Tuesday Nights at 6pm in Classroom A (between the Chapel and the Diner). \nFree to attend. Please register so we know how many students to accommodate. \nCan’t attend in person? Just select the “Zoom” option on the registration form to attend online. \nClass: Making Disciple Makers \nThis course will help you better engage in building up the body of Christ through replication – obeying Jesus’ Great Commission to go and make disciples. 
URL:https://camppearl.com/event/bible-class-making-disciple-makers/2025-02-11/
LOCATION:Classroom A\, 1132 Camp Pearl Rd\, Reeves\, LA\, 70658\, United States
CATEGORIES:Classes
ORGANIZER;CN="Robin LeBlanc":MAILTO:robin@camppearl.com
END:VEVENT
BEGIN:VEVENT
DTSTART;TZID=America/Chicago:20250204T180000
DTEND;TZID=America/Chicago:20250204T193000
DTSTAMP:20260420T202830
CREATED:20241207T175916Z
LAST-MODIFIED:20250112T164719Z
UID:10000297-1738692000-1738697400@camppearl.com
SUMMARY:Bible Class - Making Disciple Makers
DESCRIPTION:Meets Tuesday Nights at 6pm in Classroom A (between the Chapel and the Diner). \nFree to attend. Please register so we know how many students to accommodate. \nCan’t attend in person? Just select the “Zoom” option on the registration form to attend online. \nClass: Making Disciple Makers \nThis course will help you better engage in building up the body of Christ through replication – obeying Jesus’ Great Commission to go and make disciples. 
URL:https://camppearl.com/event/bible-class-making-disciple-makers/2025-02-04/
LOCATION:Classroom A\, 1132 Camp Pearl Rd\, Reeves\, LA\, 70658\, United States
CATEGORIES:Classes
ORGANIZER;CN="Robin LeBlanc":MAILTO:robin@camppearl.com
END:VEVENT
BEGIN:VEVENT
DTSTART;TZID=America/Chicago:20250128T180000
DTEND;TZID=America/Chicago:20250128T193000
DTSTAMP:20260420T202830
CREATED:20241207T175916Z
LAST-MODIFIED:20250112T164719Z
UID:10000296-1738087200-1738092600@camppearl.com
SUMMARY:Bible Class - Making Disciple Makers
DESCRIPTION:Meets Tuesday Nights at 6pm in Classroom A (between the Chapel and the Diner). \nFree to attend. Please register so we know how many students to accommodate. \nCan’t attend in person? Just select the “Zoom” option on the registration form to attend online. \nClass: Making Disciple Makers \nThis course will help you better engage in building up the body of Christ through replication – obeying Jesus’ Great Commission to go and make disciples. 
URL:https://camppearl.com/event/bible-class-making-disciple-makers/2025-01-28/
LOCATION:Classroom A\, 1132 Camp Pearl Rd\, Reeves\, LA\, 70658\, United States
CATEGORIES:Classes
ORGANIZER;CN="Robin LeBlanc":MAILTO:robin@camppearl.com
END:VEVENT
BEGIN:VEVENT
DTSTART;TZID=America/Chicago:20250121T180000
DTEND;TZID=America/Chicago:20250121T193000
DTSTAMP:20260420T202830
CREATED:20241207T175916Z
LAST-MODIFIED:20250112T164719Z
UID:10000286-1737482400-1737487800@camppearl.com
SUMMARY:Bible Class - Making Disciple Makers
DESCRIPTION:Meets Tuesday Nights at 6pm in Classroom A (between the Chapel and the Diner). \nFree to attend. Please register so we know how many students to accommodate. \nCan’t attend in person? Just select the “Zoom” option on the registration form to attend online. \nClass: Making Disciple Makers \nThis course will help you better engage in building up the body of Christ through replication – obeying Jesus’ Great Commission to go and make disciples. 
URL:https://camppearl.com/event/bible-class-making-disciple-makers/2025-01-21/
LOCATION:Classroom A\, 1132 Camp Pearl Rd\, Reeves\, LA\, 70658\, United States
CATEGORIES:Classes
ORGANIZER;CN="Robin LeBlanc":MAILTO:robin@camppearl.com
END:VEVENT
BEGIN:VEVENT
DTSTART;TZID=America/Chicago:20221110T100000
DTEND;TZID=America/Chicago:20221110T123000
DTSTAMP:20260420T202830
CREATED:20220106T224817Z
LAST-MODIFIED:20221020T172245Z
UID:10000137-1668074400-1668083400@camppearl.com
SUMMARY:Senior Citizens Day
DESCRIPTION:In observance of Veteran’s Day\, our speaker is Chuck Lusk who served our country in Afghanistan. He will be sharing some of his experiences from his time there. Mark your calendars and bring a friend! It’s sure to be a great time of fellowship (and food!). We’ll start with coffee and donuts at 9:30 am\, then our program will begin at 10:30. After that\, we’ll serve a delicious Thanksgiving meal. Hope to see you there!
URL:https://camppearl.com/event/senior-citizens-day-4/
LOCATION:Camp Pearl\, 1132 Camp Pearl Rd.\, Reeves\, 70658\, United States
CATEGORIES:Events,Fellowships
ORGANIZER;CN="Robin LeBlanc":MAILTO:robin@camppearl.com
END:VEVENT
BEGIN:VEVENT
DTSTART;TZID=America/Chicago:20210326T170000
DTEND;TZID=America/Chicago:20210327T130000
DTSTAMP:20260420T202830
CREATED:20201211T173414Z
LAST-MODIFIED:20210316T215425Z
UID:10000076-1616778000-1616850000@camppearl.com
SUMMARY:Ladies Retreat
DESCRIPTION:
URL:https://camppearl.com/event/ladies-retreat-2/
ORGANIZER;CN="Angie Barrett":MAILTO:angie@camppearl.com
END:VEVENT
BEGIN:VEVENT
DTSTART;VALUE=DATE:20180723
DTEND;VALUE=DATE:20180728
DTSTAMP:20260420T202830
CREATED:20180620T043404Z
LAST-MODIFIED:20180620T043404Z
UID:10000008-1532304000-1532735999@camppearl.com
SUMMARY:Kidz Camp
DESCRIPTION:(3-4th Grades)  \nSpeakers: Sherman and Patti Soileau
URL:https://camppearl.com/event/kidz-camp/
LOCATION:Camp Pearl\, 1132 Camp Pearl Rd.\, Reeves\, 70658\, United States
CATEGORIES:Camps,Events
ORGANIZER;CN="Robin LeBlanc":MAILTO:robin@camppearl.com
END:VEVENT
BEGIN:VEVENT
DTSTART;VALUE=DATE:20180716
DTEND;VALUE=DATE:20180720
DTSTAMP:20260420T202830
CREATED:20180620T043315Z
LAST-MODIFIED:20180620T043315Z
UID:10000020-1531699200-1532044799@camppearl.com
SUMMARY:Deeper Impact
DESCRIPTION:(9-12th Grades)  \nSpeakers: Don Barrett\, Phil Carpenter\, Mark Land\nTheme: Spiritual Gifts
URL:https://camppearl.com/event/deeper-impact/
LOCATION:Camp Pearl\, 1132 Camp Pearl Rd.\, Reeves\, 70658\, United States
CATEGORIES:Camps,Events
ORGANIZER;CN="Robin LeBlanc":MAILTO:robin@camppearl.com
END:VEVENT
BEGIN:VEVENT
DTSTART;VALUE=DATE:20180709
DTEND;VALUE=DATE:20180714
DTSTAMP:20260420T202830
CREATED:20180620T043208Z
LAST-MODIFIED:20180620T043531Z
UID:10000009-1531094400-1531526399@camppearl.com
SUMMARY:Pathfinders Camp
DESCRIPTION:(5-6th Grades)
URL:https://camppearl.com/event/pathfinders-camp/
LOCATION:Camp Pearl\, 1132 Camp Pearl Rd.\, Reeves\, 70658\, United States
CATEGORIES:Camps,Events
ORGANIZER;CN="Robin LeBlanc":MAILTO:robin@camppearl.com
END:VEVENT
BEGIN:VEVENT
DTSTART;VALUE=DATE:20180702
DTEND;VALUE=DATE:20180707
DTSTAMP:20260420T202830
CREATED:20180620T043120Z
LAST-MODIFIED:20180620T043544Z
UID:10000010-1530489600-1530921599@camppearl.com
SUMMARY:Trailblazers Camp
DESCRIPTION:(6-7th Grades) \nSpeaker – Freddie Coile
URL:https://camppearl.com/event/trailblazers-camp/
LOCATION:Camp Pearl\, 1132 Camp Pearl Rd.\, Reeves\, 70658\, United States
CATEGORIES:Camps,Events
ORGANIZER;CN="Robin LeBlanc":MAILTO:robin@camppearl.com
END:VEVENT
BEGIN:VEVENT
DTSTART;VALUE=DATE:20180625
DTEND;VALUE=DATE:20180630
DTSTAMP:20260420T202830
CREATED:20180620T043015Z
LAST-MODIFIED:20180620T043557Z
UID:10000011-1529884800-1530316799@camppearl.com
SUMMARY:Jr. High Camp
DESCRIPTION:(7-8th Grades) \n\n\nSpeaker – Freddie Coile \nLeading Worship – Kenny Mercer
URL:https://camppearl.com/event/jr-high-camp/
LOCATION:Camp Pearl\, 1132 Camp Pearl Rd.\, Reeves\, 70658\, United States
CATEGORIES:Camps,Events
ORGANIZER;CN="Robin LeBlanc":MAILTO:robin@camppearl.com
END:VEVENT
BEGIN:VEVENT
DTSTART;VALUE=DATE:20180618
DTEND;VALUE=DATE:20180623
DTSTAMP:20260420T202830
CREATED:20180620T032837Z
LAST-MODIFIED:20180620T042917Z
UID:10000012-1529280000-1529711999@camppearl.com
SUMMARY:Sr. High Camp
DESCRIPTION:(9-12th Grades) \n\n\n\nLeading Worship – Bill Loftin
URL:https://camppearl.com/event/sr-high-camp/
LOCATION:Camp Pearl\, 1132 Camp Pearl Rd.\, Reeves\, 70658\, United States
CATEGORIES:Camps,Events
ORGANIZER;CN="Robin LeBlanc":MAILTO:robin@camppearl.com
END:VEVENT
END:VCALENDAR